BEGIN:VCALENDAR
VERSION:2.0
PRODID:-//PYVOBJECT//NONSGML Version 1//EN
BEGIN:VEVENT
UID:19610:1408
DTSTART:20130412T000000
DTEND:20130413T000000
DESCRIPTION:
DTSTAMP:20260425T210240Z
SUMMARY:Gartenstart-Tagen 12. und 13. April 2013
END:VEVENT
END:VCALENDAR
