BEGIN:VCALENDAR
VERSION:2.0
PRODID:-//PYVOBJECT//NONSGML Version 1//EN
BEGIN:VEVENT
UID:19610:1720
DTSTART:20131002T000000
DTEND:20131231T000000
DESCRIPTION:Brennstoffe (Holzbriketts und Pellets) zu g&uuml\;nstigen Preis
 en !\nz. B. Buchenholzbriketts rechteckig\, 10 kg Pkg.&nbsp\; ab 1\,79
DTSTAMP:20260425T142247Z
SUMMARY:Der Winter naht …….
END:VEVENT
END:VCALENDAR
